BEGIN:VCALENDAR
VERSION:2.0
PRODID:-//eventon.com NONSGML v1.0//EN
CALSCALE:GREGORIAN
METHOD:PUBLISH
BEGIN:VEVENT
UID:69eb51d0c5d4f
DTSTAMP:20260424T111944Z
DTSTART:20260630T040000Z
DTEND:20260630T053000Z
LOCATION:
SUMMARY:Chairman's Reception
DESCRIPTION:Coming soon!
URL:https://www.bema.org/eventon/chairmans-reception/
END:VEVENT
END:VCALENDAR